BEGIN:VCALENDAR
VERSION:2.0
PRODID:-//Onderwatergroep Neptunus//NONSGML kigkonsult.se iCalcreator 2.30.
 10//
CALSCALE:GREGORIAN
METHOD:PUBLISH
UID:82e4efb1-e9cc-4233-ba30-b8b6472150dd
X-WR-CALNAME:iCagenda
X-WR-CALDESC:Event Management Extension for Joomla!
X-WR-RELCALID:3E26604A-50F4-4449-8B3E-E4F4932D05B5
X-WR-TIMEZONE:Europe/Amsterdam
BEGIN:VTIMEZONE
TZID:Europe/Amsterdam
BEGIN:STANDARD
TZNAME:CET
DTSTART:20181028T030000
TZOFFSETFROM:+0200
TZOFFSETTO:+0100
RDATE:20191027T030000
RDATE:20201025T030000
END:STANDARD
BEGIN:DAYLIGHT
TZNAME:CEST
DTSTART:20190331T020000
TZOFFSETFROM:+0100
TZOFFSETTO:+0200
RDATE:20200329T020000
END:DAYLIGHT
END:VTIMEZONE
BEGIN:VEVENT
UID:80d6df08-3027-4147-a2be-0b0c74242f43
DTSTAMP:20260419T225038Z
CATEGORIES:Evenementen
CLASS:PUBLIC
DESCRIPTION;ALTREP="CID:<FFFF__=0ABBE548DFE235B58f9e8a93d@coffeebean.com>":
 Beste leden\,\n Wij organiseren in het weekend van 21\, 22 en 23 juni weer
  ons jaarlijkse Zeelandweekend.\nEr is een optie genomen op 3 4-persoons h
 uisjes.\nDe kosten van dit weekend zijn € 110\,= p.p.\nSamen duiken en de 
 gezelligheid van Zeeland en Renesse ervaren. Wij zorgen voor het ontbijt e
 n de lunch en in de avond kun je gezellig in Renesse een hapje eten.\nLijk
 t jou dit leuk\, meld je dan deze week aan bij mij\, ik moet echt uiterlij
 k vrijdag 15 februari weten of je meegaat i.v.m. het vervallen van de opti
 e.\nHet bedrag van € 110\,= kun je tot 31 maart over maken naar NL93 RABO 
 0179 1014 12\nMail: jose.bijkerk@gmail.com (dus niet deze nieuwsbrief bean
 twoorden)\nof\nMob.: 06 36 54 95 74\nUitgebreide informatie krijgt een ied
 er die zich aan meld dan toegestuurd.\n \nGroetjes\nJosé en René
DTSTART:20190621T100000Z
DTEND:20190623T140000Z
GEO:00;0
LOCATION:
ORGANIZER:
SEQUENCE:1
SUMMARY:Zeelandweekend 21\, 22 en 23 juni 2019
TRANSP:OPAQUE
URL:https://owg-neptunus.nl/index.php/component/icagenda/483-zeelandweekend
 -21-22-en-23-juni-2019?Itemid=101
END:VEVENT
END:VCALENDAR
