BEGIN:VCALENDAR
VERSION:2.0
PRODID:-//Onderwatergroep Neptunus//NONSGML kigkonsult.se iCalcreator 2.30.
 10//
CALSCALE:GREGORIAN
METHOD:PUBLISH
UID:9c49cb53-46c8-4037-921e-31a79370919a
X-WR-CALNAME:iCagenda
X-WR-CALDESC:Event Management Extension for Joomla!
X-WR-RELCALID:3E26604A-50F4-4449-8B3E-E4F4932D05B5
X-WR-TIMEZONE:Europe/Amsterdam
BEGIN:VTIMEZONE
TZID:Europe/Amsterdam
BEGIN:STANDARD
TZNAME:CET
DTSTART:20181028T030000
TZOFFSETFROM:+0200
TZOFFSETTO:+0100
RDATE:20191027T030000
END:STANDARD
BEGIN:DAYLIGHT
TZNAME:CEST
DTSTART:20180325T020000
TZOFFSETFROM:+0100
TZOFFSETTO:+0200
RDATE:20190331T020000
RDATE:20200329T020000
END:DAYLIGHT
END:VTIMEZONE
BEGIN:VEVENT
UID:56003069-f2bf-419a-a743-ce95eb3f4917
DTSTAMP:20260419T213818Z
CATEGORIES:Bestuur
CLASS:PUBLIC
DESCRIPTION;ALTREP="CID:<FFFF__=0ABBE548DFE235B58f9e8a93d@coffeebean.com>":
  \nBeste leden\,\nHierbij nodig ik jullie van harte uit voor de algemene l
 edenvergadering op Datum: maandag 4-3-2018\; Tijd: 20.00 uur locatie:. Kul
 turhus Hasselo\, Henry Woodstraat 62 7558 CP Hengelo. Wij hopen van harte 
 op een grote opkomst.\nAgenda  n.b. Indien je als lid bent ingelogd kun je
  deze agenda en bijlagen verder inzien onder het tabblad: onze vereniging\
 , bestuur en organisatie\, ALV\, 2019. Agenda en bijlagen zijn in 1 docume
 nt opgenomen)\n 1. Opening/vaststelling agenda 2. Mededelingen van het bes
 tuur 3. Jaarstukken ter bespreking en vaststelling\n\nVerslag jaarvergader
 ing Neptunus 19 maart 2018 (bijlage 1)\nAlgemeen Jaarverslag Neptunus 2018
  bestuur (bijlage 2)\nFinancieel jaarverslag 2018 en voorstel begroting 20
 19 (bijlage 3)Ter vergadering wordt informatie over de balans per 31-12-20
 18 gegeven.\nBevindingen Kascontrolecommissie (bijlage 4)\nVerslag materia
 alcommissie (bijlage 5)\nVerslag Opleidingen 2018 en beleid 2019 (bijlage 
 6)\nVerslag evenementencommissie 2018 (bijlage 2) en organisatie evenement
 en 2019 / 2020 (mondeling)\nVoorstel inzake (her)benoeming bestuursleden (
 bijlage 7)\nBenoeming leden kascontrolecommissie financieel verslag 2019 (
 bijlage 7)4. Beleid ongewenst gedrag OWG- NeptunusZie bijgevoegd voorstel.
 5. JubilarissenDit jaar kunnen we 2 leden in het zonnetje zetten. René Bij
 kerk is 25 jaar lid en Jan Schoneveld is 50 jaar lid van onze vereniging.6
 . Rondvraag / Wat verder ter tafel komtIndien er nog punten zijn die ook b
 esproken zouden moeten worden\, dan vernemen we dat graag geruime tijd voo
 rafgaande aan de vergadering.\n\nNa afloop van de vergadering drinken we g
 raag met de aanwezige leden een drankje in de bar van het wijkcentrum. Het
  bestuur betaalt de bitterballen.  Namens het bestuur\,  Jan Schoneveld (s
 ecretaris)\n \n 
DTSTART:20190304T190000Z
DTEND:20190304T203000Z
GEO:+52.285355;+6.829484
LOCATION:Kulturhus Hasselo
ORGANIZER:
SEQUENCE:1
SUMMARY:Algemene ledenvergadering 4 maart 2019
TRANSP:OPAQUE
URL:https://owg-neptunus.nl/index.php/component/icagenda/482-algemene-leden
 vergadering?Itemid=101
END:VEVENT
END:VCALENDAR
