BEGIN:VCALENDAR
VERSION:2.0
PRODID:-//Onderwatergroep Neptunus//NONSGML kigkonsult.se iCalcreator 2.30.
 10//
CALSCALE:GREGORIAN
METHOD:PUBLISH
UID:77a907e2-2870-41d6-99f2-f8d6042c5155
X-WR-CALNAME:iCagenda
X-WR-CALDESC:Event Management Extension for Joomla!
X-WR-RELCALID:3E26604A-50F4-4449-8B3E-E4F4932D05B5
X-WR-TIMEZONE:Europe/Amsterdam
BEGIN:VTIMEZONE
TZID:Europe/Amsterdam
BEGIN:STANDARD
TZNAME:CET
DTSTART:20181028T030000
TZOFFSETFROM:+0200
TZOFFSETTO:+0100
RDATE:20191027T030000
END:STANDARD
BEGIN:DAYLIGHT
TZNAME:CEST
DTSTART:20190331T020000
TZOFFSETFROM:+0100
TZOFFSETTO:+0200
RDATE:20200329T020000
END:DAYLIGHT
END:VTIMEZONE
BEGIN:VEVENT
UID:72e8679d-7457-4b3f-bf44-8111ff52a61d
DTSTAMP:20260419T200333Z
CATEGORIES:Opleidingen Zwembad
CLASS:PUBLIC
DESCRIPTION:
DTSTART:20190406T150000Z
DTEND:20190406T163000Z
GEO:00;0
LOCATION:Twentebad
ORGANIZER:
SEQUENCE:1
SUMMARY:Opleiding duiken 1*
TRANSP:OPAQUE
URL:https://owg-neptunus.nl/index.php/component/icagenda/476-opleiding-duik
 en-1?Itemid=101
END:VEVENT
END:VCALENDAR
