BEGIN:VCALENDAR
VERSION:2.0
PRODID:-//Onderwatergroep Neptunus//NONSGML kigkonsult.se iCalcreator 2.30.
 10//
CALSCALE:GREGORIAN
METHOD:PUBLISH
UID:d164a60d-4458-4052-bb61-c500ce1b7602
X-WR-CALNAME:iCagenda
X-WR-CALDESC:Event Management Extension for Joomla!
X-WR-RELCALID:3E26604A-50F4-4449-8B3E-E4F4932D05B5
X-WR-TIMEZONE:Europe/Amsterdam
BEGIN:VTIMEZONE
TZID:Europe/Amsterdam
BEGIN:STANDARD
TZNAME:CET
DTSTART:20181028T030000
TZOFFSETFROM:+0200
TZOFFSETTO:+0100
RDATE:20191027T030000
END:STANDARD
BEGIN:DAYLIGHT
TZNAME:CEST
DTSTART:20180325T020000
TZOFFSETFROM:+0100
TZOFFSETTO:+0200
RDATE:20190331T020000
RDATE:20200329T020000
END:DAYLIGHT
END:VTIMEZONE
BEGIN:VEVENT
UID:0dcfe004-76a1-4e59-82e4-bb2a8ccb6b8e
DTSTAMP:20260420T004611Z
CATEGORIES:Evenementen
CLASS:PUBLIC
DESCRIPTION:
DTSTART:20190106T093000Z
DTEND:20190106T123000Z
GEO:+52.31871;+6.98267
LOCATION:De Lutte
ORGANIZER;CN=:paul@horsthuis.nl
SEQUENCE:1
SUMMARY:Nieuwjaarswandeling
TRANSP:OPAQUE
URL:https://owg-neptunus.nl/index.php/component/icagenda/437-nieuwjaarswand
 eling?Itemid=101
END:VEVENT
END:VCALENDAR
