BEGIN:VCALENDAR
VERSION:2.0
PRODID:-//Onderwatergroep Neptunus//NONSGML kigkonsult.se iCalcreator 2.30.
 10//
CALSCALE:GREGORIAN
METHOD:PUBLISH
UID:7ed50cef-eb41-4b20-bd97-2be46c7d1dcc
X-WR-CALNAME:iCagenda
X-WR-CALDESC:Event Management Extension for Joomla!
X-WR-RELCALID:3E26604A-50F4-4449-8B3E-E4F4932D05B5
X-WR-TIMEZONE:Europe/Amsterdam
BEGIN:VTIMEZONE
TZID:Europe/Amsterdam
BEGIN:STANDARD
TZNAME:CET
DTSTART:20181028T030000
TZOFFSETFROM:+0200
TZOFFSETTO:+0100
RDATE:20191027T030000
END:STANDARD
BEGIN:DAYLIGHT
TZNAME:CEST
DTSTART:20180325T020000
TZOFFSETFROM:+0100
TZOFFSETTO:+0200
RDATE:20190331T020000
RDATE:20200329T020000
END:DAYLIGHT
END:VTIMEZONE
BEGIN:VEVENT
UID:46ff347e-3e81-4b94-94fd-3a9bbefa93a3
DTSTAMP:20260420T032729Z
CATEGORIES:Opleidingen Buitenwater
CLASS:PUBLIC
DESCRIPTION:
DTSTART:20181201T160000Z
DTEND:20181201T173000Z
GEO:+52.281006;+6.802935
LOCATION:Twentebad Hengelo
ORGANIZER:
SEQUENCE:1
SUMMARY:Flessentraining
TRANSP:OPAQUE
URL:https://owg-neptunus.nl/index.php/component/icagenda/436-theorie-en-fle
 ssentraining?Itemid=101
END:VEVENT
END:VCALENDAR
