BEGIN:VCALENDAR
VERSION:2.0
PRODID:-//Onderwatergroep Neptunus//NONSGML kigkonsult.se iCalcreator 2.30.
 10//
CALSCALE:GREGORIAN
METHOD:PUBLISH
UID:6162817a-d653-43b5-8d92-0354e726d0ea
X-WR-CALNAME:iCagenda
X-WR-CALDESC:Event Management Extension for Joomla!
X-WR-RELCALID:3E26604A-50F4-4449-8B3E-E4F4932D05B5
X-WR-TIMEZONE:Europe/Amsterdam
BEGIN:VTIMEZONE
TZID:Europe/Amsterdam
BEGIN:STANDARD
TZNAME:CET
DTSTART:20181028T030000
TZOFFSETFROM:+0200
TZOFFSETTO:+0100
RDATE:20191027T030000
END:STANDARD
BEGIN:DAYLIGHT
TZNAME:CEST
DTSTART:20180325T020000
TZOFFSETFROM:+0100
TZOFFSETTO:+0200
RDATE:20190331T020000
RDATE:20200329T020000
END:DAYLIGHT
END:VTIMEZONE
BEGIN:VEVENT
UID:0a97c4d6-71f3-4b45-b67d-c89931b75708
DTSTAMP:20260420T045910Z
CATEGORIES:Opleidingen Zwembad
CLASS:PUBLIC
DESCRIPTION:
DTSTART:20181208T160000Z
DTEND:20181208T170000Z
GEO:+52.281006;+6.802935
LOCATION:Twentebad Hengelo
ORGANIZER:
SEQUENCE:1
SUMMARY:Snorkelopleiding
TRANSP:OPAQUE
URL:https://owg-neptunus.nl/index.php/component/icagenda/435-snorkelopleidi
 ng?Itemid=101
END:VEVENT
END:VCALENDAR
