BEGIN:VCALENDAR
VERSION:2.0
PRODID:-//Onderwatergroep Neptunus//NONSGML kigkonsult.se iCalcreator 2.30.
 10//
CALSCALE:GREGORIAN
METHOD:PUBLISH
UID:9672b043-048c-4a45-9cef-c9d30f99a20b
X-WR-CALNAME:iCagenda
X-WR-CALDESC:Event Management Extension for Joomla!
X-WR-RELCALID:3E26604A-50F4-4449-8B3E-E4F4932D05B5
X-WR-TIMEZONE:Europe/Amsterdam
BEGIN:VTIMEZONE
TZID:Europe/Amsterdam
BEGIN:STANDARD
TZNAME:CET
DTSTART:20171029T030000
TZOFFSETFROM:+0200
TZOFFSETTO:+0100
RDATE:20181028T030000
RDATE:20191027T030000
END:STANDARD
BEGIN:DAYLIGHT
TZNAME:CEST
DTSTART:20180325T020000
TZOFFSETFROM:+0100
TZOFFSETTO:+0200
RDATE:20190331T020000
RDATE:20200329T020000
END:DAYLIGHT
END:VTIMEZONE
BEGIN:VEVENT
UID:aa7795af-3e23-406f-9bce-ac5cf282a4ba
DTSTAMP:20260420T063950Z
CATEGORIES:Bestuur
CLASS:PUBLIC
DESCRIPTION;ALTREP="CID:<FFFF__=0ABBE548DFE235B58f9e8a93d@coffeebean.com>":
 Maak gebruik van de kans om een gezellige duik te maken in het jaarfeest. 
 En ga genieten van muziek\, animatie\, drankjes en heerlijk buffert. Allee
 n de drankjes zijn voor eigen rekening. Vergeet vooral niet om je partner\
 , vriendin of vriend mee te nemen. Meld je wel even aan met de vermelding 
 van het aantal personen en indien nodig dieet wensen.
DTSTART:20181013T173000Z
DTEND:20181013T214500Z
GEO:+52.27972;+6.82992
LOCATION:Blokhut de Samenloop
ORGANIZER;CN=:bertvanek@gmail.com
SEQUENCE:1
SUMMARY:Jaarfeest Neptunus
TRANSP:OPAQUE
URL:https://owg-neptunus.nl/index.php/component/icagenda/431-jaarfeest-nept
 unus?Itemid=101
END:VEVENT
END:VCALENDAR
