BEGIN:VCALENDAR
VERSION:2.0
PRODID:-//Onderwatergroep Neptunus//NONSGML kigkonsult.se iCalcreator 2.30.
 10//
CALSCALE:GREGORIAN
METHOD:PUBLISH
UID:ed232143-3269-4603-8edd-1db70b8fc0ef
X-WR-CALNAME:iCagenda
X-WR-CALDESC:Event Management Extension for Joomla!
X-WR-RELCALID:3E26604A-50F4-4449-8B3E-E4F4932D05B5
X-WR-TIMEZONE:Europe/Amsterdam
BEGIN:VTIMEZONE
TZID:Europe/Amsterdam
BEGIN:STANDARD
TZNAME:CET
DTSTART:20181028T030000
TZOFFSETFROM:+0200
TZOFFSETTO:+0100
RDATE:20191027T030000
END:STANDARD
BEGIN:DAYLIGHT
TZNAME:CEST
DTSTART:20180325T020000
TZOFFSETFROM:+0100
TZOFFSETTO:+0200
RDATE:20190331T020000
RDATE:20200329T020000
END:DAYLIGHT
END:VTIMEZONE
BEGIN:VEVENT
UID:5a9302af-2206-45da-91f7-3c92909c152a
DTSTAMP:20260420T035439Z
CATEGORIES:Dive World
CLASS:PUBLIC
DESCRIPTION:
DTSTART:20181108T230000Z
DTEND:20181108T230000Z
GEO:+52.239815;+6.83858
LOCATION:
ORGANIZER:
SEQUENCE:1
SUMMARY:Duiktraining 19.00 - 21.00 uur
TRANSP:OPAQUE
URL:https://owg-neptunus.nl/index.php/component/icagenda/422-duiktraining-1
 9-00-21-00-uur?Itemid=101
END:VEVENT
END:VCALENDAR
