BEGIN:VCALENDAR
VERSION:2.0
PRODID:-//Onderwatergroep Neptunus//NONSGML kigkonsult.se iCalcreator 2.30.
 10//
CALSCALE:GREGORIAN
METHOD:PUBLISH
UID:2d0868f4-4956-4695-96f6-cc520cf24855
X-WR-CALNAME:iCagenda
X-WR-CALDESC:Event Management Extension for Joomla!
X-WR-RELCALID:3E26604A-50F4-4449-8B3E-E4F4932D05B5
X-WR-TIMEZONE:Europe/Amsterdam
BEGIN:VTIMEZONE
TZID:Europe/Amsterdam
BEGIN:STANDARD
TZNAME:CET
DTSTART:20171029T030000
TZOFFSETFROM:+0200
TZOFFSETTO:+0100
RDATE:20181028T030000
RDATE:20191027T030000
END:STANDARD
BEGIN:DAYLIGHT
TZNAME:CEST
DTSTART:20180325T020000
TZOFFSETFROM:+0100
TZOFFSETTO:+0200
RDATE:20190331T020000
RDATE:20200329T020000
END:DAYLIGHT
END:VTIMEZONE
BEGIN:VEVENT
UID:fd9a2a10-a171-46bc-b657-9eece059f016
DTSTAMP:20260420T051711Z
CATEGORIES:Doelgroepenbad
CLASS:PUBLIC
DESCRIPTION:
DTSTART:20181019T220000Z
DTEND:20181019T220000Z
GEO:+52.281147;+6.801755
LOCATION:
ORGANIZER:
SEQUENCE:1
SUMMARY:Snorkel- en duiktraining  17.00 - 18.30 uur\; ook voor geïnteressee
 rden
TRANSP:OPAQUE
URL:https://owg-neptunus.nl/index.php/component/icagenda/419-snorkel-en-dui
 ktraining-20-oktober-2018-17-00-18-30-uur?Itemid=101
END:VEVENT
END:VCALENDAR
