BEGIN:VCALENDAR
VERSION:2.0
PRODID:-//Onderwatergroep Neptunus//NONSGML kigkonsult.se iCalcreator 2.30.
 10//
CALSCALE:GREGORIAN
METHOD:PUBLISH
UID:c2b338aa-dc71-426a-a9f9-c21711feb52c
X-WR-CALNAME:iCagenda
X-WR-CALDESC:Event Management Extension for Joomla!
X-WR-RELCALID:3E26604A-50F4-4449-8B3E-E4F4932D05B5
X-WR-TIMEZONE:Europe/Amsterdam
BEGIN:VTIMEZONE
TZID:Europe/Amsterdam
BEGIN:STANDARD
TZNAME:CET
DTSTART:20171029T030000
TZOFFSETFROM:+0200
TZOFFSETTO:+0100
RDATE:20181028T030000
RDATE:20191027T030000
END:STANDARD
BEGIN:DAYLIGHT
TZNAME:CEST
DTSTART:20180325T020000
TZOFFSETFROM:+0100
TZOFFSETTO:+0200
RDATE:20190331T020000
RDATE:20200329T020000
END:DAYLIGHT
END:VTIMEZONE
BEGIN:VEVENT
UID:6a141ef2-04e6-4a36-a0d8-72111410cd49
DTSTAMP:20260420T050433Z
CATEGORIES:Doelgroepenbad
CLASS:PUBLIC
DESCRIPTION:
DTSTART:20181012T220000Z
DTEND:20181012T220000Z
GEO:+52.281147;+6.801755
LOCATION:
ORGANIZER:
SEQUENCE:1
SUMMARY:Snorkeltraining 17.00 - 18.00 uur
TRANSP:OPAQUE
URL:https://owg-neptunus.nl/index.php/component/icagenda/418-snorkeltrainin
 g-17-00-18-00-uur?Itemid=101
END:VEVENT
END:VCALENDAR
