BEGIN:VCALENDAR
VERSION:2.0
PRODID:-//Onderwatergroep Neptunus//NONSGML kigkonsult.se iCalcreator 2.30.
 10//
CALSCALE:GREGORIAN
METHOD:PUBLISH
UID:f696eb8b-f57a-4d5d-b6dd-aea1a357323f
X-WR-CALNAME:iCagenda
X-WR-CALDESC:Event Management Extension for Joomla!
X-WR-RELCALID:3E26604A-50F4-4449-8B3E-E4F4932D05B5
X-WR-TIMEZONE:Europe/Amsterdam
BEGIN:VTIMEZONE
TZID:Europe/Amsterdam
BEGIN:STANDARD
TZNAME:CET
DTSTART:20171029T030000
TZOFFSETFROM:+0200
TZOFFSETTO:+0100
RDATE:20181028T030000
RDATE:20191027T030000
END:STANDARD
BEGIN:DAYLIGHT
TZNAME:CEST
DTSTART:20180325T020000
TZOFFSETFROM:+0100
TZOFFSETTO:+0200
RDATE:20190331T020000
RDATE:20200329T020000
END:DAYLIGHT
END:VTIMEZONE
BEGIN:VEVENT
UID:ed9c18b2-83d7-4f4b-b9de-e9deab0c2e11
DTSTAMP:20260420T050344Z
CATEGORIES:Duiken
CLASS:PUBLIC
DESCRIPTION:
DTSTART:20181028T090000Z
DTEND:20181028T110000Z
GEO:+51.921272;+5.436946
LOCATION:
ORGANIZER:
SEQUENCE:1
SUMMARY:Buitenduik De Beldert\, 10.00 uur
TRANSP:OPAQUE
URL:https://owg-neptunus.nl/index.php/component/icagenda/416-buitenduik-de-
 beldert-10-00-uur?Itemid=101
END:VEVENT
END:VCALENDAR
