BEGIN:VCALENDAR
VERSION:2.0
PRODID:-//Onderwatergroep Neptunus//NONSGML kigkonsult.se iCalcreator 2.30.
 10//
CALSCALE:GREGORIAN
METHOD:PUBLISH
UID:66bdce25-05f7-440b-93f5-0401741cc37a
X-WR-CALNAME:iCagenda
X-WR-CALDESC:Event Management Extension for Joomla!
X-WR-RELCALID:3E26604A-50F4-4449-8B3E-E4F4932D05B5
X-WR-TIMEZONE:Europe/Amsterdam
BEGIN:VTIMEZONE
TZID:Europe/Amsterdam
BEGIN:STANDARD
TZNAME:CET
DTSTART:20171029T030000
TZOFFSETFROM:+0200
TZOFFSETTO:+0100
RDATE:20181028T030000
RDATE:20191027T030000
END:STANDARD
BEGIN:DAYLIGHT
TZNAME:CEST
DTSTART:20180325T020000
TZOFFSETFROM:+0100
TZOFFSETTO:+0200
RDATE:20190331T020000
RDATE:20200329T020000
END:DAYLIGHT
END:VTIMEZONE
BEGIN:VEVENT
UID:067c7ffb-b60e-45f9-a9c5-366f3ea6ef72
DTSTAMP:20260420T050433Z
CATEGORIES:Duiken
CLASS:PUBLIC
DESCRIPTION:
DTSTART:20181007T080000Z
DTEND:20181007T100000Z
GEO:+52.297901;+6.643511
LOCATION:
ORGANIZER:
SEQUENCE:1
SUMMARY:Buitenduik Grasbroek\, 10.00 uur
TRANSP:OPAQUE
URL:https://owg-neptunus.nl/index.php/component/icagenda/413-buitenduik-gra
 sbroek-10-00-uur?Itemid=101
END:VEVENT
END:VCALENDAR
