BEGIN:VCALENDAR
VERSION:2.0
PRODID:-//Onderwatergroep Neptunus//NONSGML kigkonsult.se iCalcreator 2.30.
 10//
CALSCALE:GREGORIAN
METHOD:PUBLISH
UID:0196c929-4498-4df1-88e1-527f357d8d6b
X-WR-CALNAME:iCagenda
X-WR-CALDESC:Event Management Extension for Joomla!
X-WR-RELCALID:3E26604A-50F4-4449-8B3E-E4F4932D05B5
X-WR-TIMEZONE:Europe/Amsterdam
BEGIN:VTIMEZONE
TZID:Europe/Amsterdam
BEGIN:STANDARD
TZNAME:CET
DTSTART:20171029T030000
TZOFFSETFROM:+0200
TZOFFSETTO:+0100
RDATE:20181028T030000
RDATE:20191027T030000
END:STANDARD
BEGIN:DAYLIGHT
TZNAME:CEST
DTSTART:20180325T020000
TZOFFSETFROM:+0100
TZOFFSETTO:+0200
RDATE:20190331T020000
END:DAYLIGHT
END:VTIMEZONE
BEGIN:VEVENT
UID:54fde34e-22e7-48af-b875-52a74429f16a
DTSTAMP:20260420T054256Z
CATEGORIES:Duiken
CLASS:PUBLIC
DESCRIPTION:
DTSTART:20180908T220000Z
DTEND:20180908T220000Z
GEO:+52.295139;+6.647871
LOCATION:Grasbroek\, Bornebroek
ORGANIZER:
SEQUENCE:1
SUMMARY:Buitenduik Grasbroek\, 10.00 uur
TRANSP:OPAQUE
URL:https://owg-neptunus.nl/index.php/component/icagenda/410-buitenduik?Ite
 mid=101
END:VEVENT
END:VCALENDAR
