BEGIN:VCALENDAR
VERSION:2.0
PRODID:-//Onderwatergroep Neptunus//NONSGML kigkonsult.se iCalcreator 2.30.
 10//
CALSCALE:GREGORIAN
METHOD:PUBLISH
UID:82de5330-1bac-4fb8-940f-b2807a75fdd6
X-WR-CALNAME:iCagenda
X-WR-CALDESC:Event Management Extension for Joomla!
X-WR-RELCALID:3E26604A-50F4-4449-8B3E-E4F4932D05B5
X-WR-TIMEZONE:Europe/Amsterdam
BEGIN:VTIMEZONE
TZID:Europe/Amsterdam
BEGIN:STANDARD
TZNAME:CET
DTSTART:20181028T030000
TZOFFSETFROM:+0200
TZOFFSETTO:+0100
RDATE:20191027T030000
END:STANDARD
BEGIN:DAYLIGHT
TZNAME:CEST
DTSTART:20180325T020000
TZOFFSETFROM:+0100
TZOFFSETTO:+0200
RDATE:20190331T020000
RDATE:20200329T020000
END:DAYLIGHT
END:VTIMEZONE
BEGIN:VEVENT
UID:6b88bc02-872e-4f25-a3db-dbbb193c8533
DTSTAMP:20260420T005012Z
CATEGORIES:Vullen Zaterdag
CLASS:PUBLIC
DESCRIPTION;ALTREP="CID:<FFFF__=0ABBE548DFE235B58f9e8a93d@coffeebean.com>":
 Vullen van duikflessen Op de zaterdagmiddag kunnen\, voorafgaande aan de t
 raining in het Twentebad\, persluchtflessen van leden worden gevuld. Hierv
 oor heeft de vereniging een vulinstallatie in het vulhok naast de kantine 
 ‘Het startblok’ . De volgende leden maken deel uit van de vulploeg: René B
 ijkerk\, René Christenhusz\, Richard Kramersen en Jan van Ommen. Het vulle
 n vindt plaats tussen 16.15 en 16.45 uur\, zodat de leden van de vulploeg 
 ook de gelegenheid blijven houden om mee te doen aan de zwembadtraining.\n
 Het onderhoud van de installatie wordt verzorgd door onze materialencommis
 saris René Bijkerk. Op dit moment wordt onderzocht of het haalbaar is om p
 ersluchtflessen met Nitrox te vullen. Leden die hiervoor een brevet hebben
 \, kunnen daar dan van gebruik maken.
DTSTART:20190202T151500Z
DTEND:20190202T154500Z
GEO:+52.281147;+6.801755
LOCATION:Twentebad Hengelo
ORGANIZER:
SEQUENCE:1
SUMMARY:Vullen van duikflessen\, klik deze tekst aan voor meer informatie
TRANSP:OPAQUE
URL:https://owg-neptunus.nl/index.php/component/icagenda/409-perslucht/2019
 -02-02-16-15?Itemid=101
END:VEVENT
END:VCALENDAR
