BEGIN:VCALENDAR
VERSION:2.0
PRODID:-//Onderwatergroep Neptunus//NONSGML kigkonsult.se iCalcreator 2.30.
 10//
CALSCALE:GREGORIAN
METHOD:PUBLISH
UID:9fd9c8ff-5fdc-4efd-8a00-c57f36499636
X-WR-CALNAME:iCagenda
X-WR-CALDESC:Event Management Extension for Joomla!
X-WR-RELCALID:3E26604A-50F4-4449-8B3E-E4F4932D05B5
X-WR-TIMEZONE:Europe/Amsterdam
BEGIN:VTIMEZONE
TZID:Europe/Amsterdam
BEGIN:STANDARD
TZNAME:CET
DTSTART:20171029T030000
TZOFFSETFROM:+0200
TZOFFSETTO:+0100
RDATE:20181028T030000
RDATE:20191027T030000
END:STANDARD
BEGIN:DAYLIGHT
TZNAME:CEST
DTSTART:20180325T020000
TZOFFSETFROM:+0100
TZOFFSETTO:+0200
RDATE:20190331T020000
RDATE:20200329T020000
END:DAYLIGHT
END:VTIMEZONE
BEGIN:VEVENT
UID:79e14765-be0d-4a49-b363-334ef806c4a7
DTSTAMP:20260420T050433Z
CATEGORIES:Evenementen
CLASS:PUBLIC
DESCRIPTION;ALTREP="CID:<FFFF__=0ABBE548DFE235B58f9e8a93d@coffeebean.com>":
  \nGratis introductieduik bij duikvereniging Neptunus\n \n \n \nWil je ler
 en duiken? Altijd al nieuwsgierig geweest naar de bijzondere wereld onder 
 water? Doe dan mee met de introductieduik van duikvereniging Neptunus op 2
 2 september of 6 oktober in het Twentebad. Onder begeleiding van ervaren s
 portduikers leer je met perslucht onder water zwemmen. Er is per introduct
 ieduik plaats voor maximaal acht geïnteresseerden. Meld je dus gauw aan!\n
  \n \n \nNa deze introductie enthousiast geworden om écht te leren duiken?
  Duikvereniging Neptunus heeft in het seizoen 2018-2019 plek om zes nieuwe
  duikers op te leiden. Aan het eind van de opleiding kun je je duikbrevet 
 halen\, waarmee je niet alleen in Nederland maar ook in het buitenland bev
 oegd bent om te duiken.\n \n \n \nWat: Introductieduik bij duikvereniging 
 Neptunus\n \nWaar: Twentebad\, Hengelo\n \nWanneer: 22 september en 6 okto
 ber\, 16.00-18.00 uur\n \nKosten: geen\n \n \n \nAanmelden: info@owg-neptu
 nus.nl\n \nMeer info: www.owg-neptunus.nl\n \nFacebook: Duikvereniging Ond
 erwatergroep Neptunus\n 
DTSTART:20181006T140000Z
DTEND:20181006T160000Z
GEO:+52.281147;+6.801755
LOCATION:Twentebad Hengelo
ORGANIZER;CN=:info@owg-neptunus.nl
SEQUENCE:1
SUMMARY:Introductieduik voor belangstellenden
TRANSP:OPAQUE
URL:https://owg-neptunus.nl/index.php/component/icagenda/403-introductiedui
 k-nieuwe-leden?Itemid=101
END:VEVENT
END:VCALENDAR
