BEGIN:VCALENDAR
VERSION:2.0
PRODID:-//Onderwatergroep Neptunus//NONSGML kigkonsult.se iCalcreator 2.30.
 10//
CALSCALE:GREGORIAN
METHOD:PUBLISH
UID:e764d43e-7490-49f3-8014-18060c6c41a6
X-WR-CALNAME:iCagenda
X-WR-CALDESC:Event Management Extension for Joomla!
X-WR-RELCALID:3E26604A-50F4-4449-8B3E-E4F4932D05B5
X-WR-TIMEZONE:Europe/Amsterdam
BEGIN:VTIMEZONE
TZID:Europe/Amsterdam
BEGIN:STANDARD
TZNAME:CET
DTSTART:20171029T030000
TZOFFSETFROM:+0200
TZOFFSETTO:+0100
RDATE:20181028T030000
END:STANDARD
BEGIN:DAYLIGHT
TZNAME:CEST
DTSTART:20180325T020000
TZOFFSETFROM:+0100
TZOFFSETTO:+0200
RDATE:20190331T020000
END:DAYLIGHT
END:VTIMEZONE
BEGIN:VEVENT
UID:41aea3c5-fb49-4e14-a7b2-f3ceba756d44
DTSTAMP:20260419T213553Z
CATEGORIES:Dive World
CLASS:PUBLIC
DESCRIPTION;ALTREP="CID:<FFFF__=0ABBE548DFE235B58f9e8a93d@coffeebean.com>":
 19:00-21:00 Dive world
DTSTART:20180413T170000Z
DTEND:20180413T190000Z
GEO:+52.23938;+6.833348
LOCATION:Duiktoren
ORGANIZER:
SEQUENCE:1
SUMMARY:Dive world
TRANSP:OPAQUE
URL:https://owg-neptunus.nl/index.php/component/icagenda/399-Dive_world?Ite
 mid=101
END:VEVENT
END:VCALENDAR
