BEGIN:VCALENDAR
VERSION:2.0
PRODID:-//Onderwatergroep Neptunus//NONSGML kigkonsult.se iCalcreator 2.30.
 10//
CALSCALE:GREGORIAN
METHOD:PUBLISH
UID:a55d91b5-c001-4846-b6e6-8f4c6840b1a8
X-WR-CALNAME:iCagenda
X-WR-CALDESC:Event Management Extension for Joomla!
X-WR-RELCALID:3E26604A-50F4-4449-8B3E-E4F4932D05B5
X-WR-TIMEZONE:Europe/Amsterdam
BEGIN:VTIMEZONE
TZID:Europe/Amsterdam
BEGIN:STANDARD
TZNAME:CET
DTSTART:20171029T030000
TZOFFSETFROM:+0200
TZOFFSETTO:+0100
RDATE:20181028T030000
END:STANDARD
BEGIN:DAYLIGHT
TZNAME:CEST
DTSTART:20170326T020000
TZOFFSETFROM:+0100
TZOFFSETTO:+0200
RDATE:20180325T020000
RDATE:20190331T020000
END:DAYLIGHT
END:VTIMEZONE
BEGIN:VEVENT
UID:e76c323a-807c-437b-a40c-a2edfaabacf9
DTSTAMP:20260420T045640Z
CATEGORIES:Doelgroepenbad Belangrijk
CLASS:PUBLIC
DESCRIPTION;ALTREP="CID:<FFFF__=0ABBE548DFE235B58f9e8a93d@coffeebean.com>":
 17:00-18:00\nGeen training i.v.m. Duiktoren op vrijdag
DTSTART:20171111T160000Z
DTEND:20171111T170000Z
GEO:+52.281242;+6.801934
LOCATION:Twentebad
ORGANIZER:
SEQUENCE:1
SUMMARY:Geen training
TRANSP:OPAQUE
URL:https://owg-neptunus.nl/index.php/component/icagenda/286-training?Itemi
 d=101
END:VEVENT
END:VCALENDAR
